BEGIN:VCALENDAR
PRODID:-//eluceo/ical//2.0/EN
VERSION:2.0
CALSCALE:GREGORIAN
BEGIN:VEVENT
UID:0a0dfb55f05088072048d65419376ac4
DTSTAMP:20260422T050628Z
SUMMARY:Jewish Women's Foundation meeting
DESCRIPTION:Jewish Federation of the Berkshires\nBerkshire Jewish Community
  Calendar\nhttps://jewishberkshires.org/jewish-federation-of-the-berkshire
 s-calendar/jewish-womens-foundation-meeting\n\nJewish Women's Foundation m
 eeting
DTSTART;TZID=America/New_York:20130517T100000
DTEND;TZID=America/New_York:20130517T113000
END:VEVENT
END:VCALENDAR
