BEGIN:VCALENDAR
PRODID:-//eluceo/ical//2.0/EN
VERSION:2.0
CALSCALE:GREGORIAN
BEGIN:VEVENT
UID:63ae7aa69da27ba442044f4925031514
DTSTAMP:20260420T231425Z
SUMMARY:Jewish Women's Foundation General Membership Meeting
DESCRIPTION:Jewish Federation of the Berkshires\nBerkshire Jewish Community
  Calendar\nhttps://jewishberkshires.org/jewish-federation-of-the-berkshire
 s-calendar/jewish-womens-foundation-general-membership-meeting\n\nJewish W
 omen's Foundation General Membership Meeting
DTSTART;TZID=America/New_York:20160829T093000
DTEND;TZID=America/New_York:20160829T120000
END:VEVENT
END:VCALENDAR
