BEGIN:VCALENDAR
PRODID:-//eluceo/ical//2.0/EN
VERSION:2.0
CALSCALE:GREGORIAN
BEGIN:VEVENT
UID:8be6485bf4413da662f103a3ce2b6760
DTSTAMP:20260422T133546Z
SUMMARY:Jewish Women's Foundation Executive Board Meeting
DESCRIPTION:Jewish Federation of the Berkshires\nBerkshire Jewish Community
  Calendar\nhttps://jewishberkshires.org/jewish-federation-of-the-berkshire
 s-calendar/jewish-womens-foundation-executive-board-meeting\n\nJewish Wome
 n's Foundation Executive Board Meeting\n\nDetermine final 2018 funding amo
 unts for priorities set at General Membership meeting\n\nPlease call for l
 ocation and address as being held at a private home\n\n 
DTSTART;TZID=America/New_York:20171002T093000
DTEND;TZID=America/New_York:20171002T113000
END:VEVENT
END:VCALENDAR
