BEGIN:VCALENDAR
PRODID:-//eluceo/ical//2.0/EN
VERSION:2.0
CALSCALE:GREGORIAN
BEGIN:VEVENT
UID:6efe9c25711be772e1942cbebd1f2872
DTSTAMP:20260420T110154Z
SUMMARY:Jewish Women's Foundation Card Party
DESCRIPTION:Jewish Federation of the Berkshires\nBerkshire Jewish Community
  Calendar\nhttps://jewishberkshires.org/jewish-federation-of-the-berkshire
 s-calendar/jewish-womens-foundation-card-party\n\nSAVE THE DATE!\n\nJewish
  Women's Foundation Card Party\n\nCheck back soon for more details. 
DTSTART;TZID=America/New_York:20240712T000000
DTEND;TZID=America/New_York:20240712T235959
END:VEVENT
END:VCALENDAR
