BEGIN:VCALENDAR
PRODID:-//eluceo/ical//2.0/EN
VERSION:2.0
CALSCALE:GREGORIAN
BEGIN:VEVENT
UID:a212c3f21cb55e9ba3f6afbda61c9d77
DTSTAMP:20260424T052707Z
SUMMARY:Jewish Women's Foundation Brunch and Annual Meeting
DESCRIPTION:Jewish Federation of the Berkshires\nBerkshire Jewish Community
  Calendar\nhttps://jewishberkshires.org/jewish-federation-of-the-berkshire
 s-calendar/jewish-womens-foundation-brunch-and-annual-meeting\n\nJWF annua
 l brunch and meeting
DTSTART;TZID=America/New_York:20200619T110000
DTEND;TZID=America/New_York:20200619T123000
END:VEVENT
END:VCALENDAR
