BEGIN:VCALENDAR
PRODID:-//eluceo/ical//2.0/EN
VERSION:2.0
CALSCALE:GREGORIAN
BEGIN:VEVENT
UID:83d001aa952be1e3e470a839e121a0d8
DTSTAMP:20260420T110114Z
SUMMARY:Jewish Women's Foundation Annual Meeting
DESCRIPTION:Jewish Federation of the Berkshires\nBerkshire Jewish Community
  Calendar\nhttps://jewishberkshires.org/jewish-federation-of-the-berkshire
 s-calendar/jewish-womens-foundation-annual-meeting\n\nJewish Women's Found
 ation Annual Meeting
DTSTART;TZID=America/New_York:20130627T103000
DTEND;TZID=America/New_York:20130627T120000
END:VEVENT
END:VCALENDAR
