BEGIN:VCALENDAR
PRODID:-//eluceo/ical//2.0/EN
VERSION:2.0
CALSCALE:GREGORIAN
BEGIN:VEVENT
UID:f1d91e8cd637ac18edc0f02e2fba0f55
DTSTAMP:20260421T231901Z
SUMMARY:Jewish Women's Foundation Annual Luncheon and Meeting
DESCRIPTION:Jewish Federation of the Berkshires\nBerkshire Jewish Community
  Calendar\nhttps://jewishberkshires.org/jewish-federation-of-the-berkshire
 s-calendar/jewish-womens-foundation-annual-luncheon\n\nSAVE THE DATE!\n\nJ
 ewish Women's Foundation's Annual Luncheon and Meeting\n\nPittsfield Count
 ry Club\, 639 South St\, Pittsfield\, MA  01201 \n\nTo register\, please
  click HERE.\n\n 
DTSTART;TZID=America/New_York:20240621T103000
DTEND;TZID=America/New_York:20240621T130000
END:VEVENT
END:VCALENDAR
