BEGIN:VCALENDAR
PRODID:-//eluceo/ical//2.0/EN
VERSION:2.0
CALSCALE:GREGORIAN
BEGIN:VEVENT
UID:e7893408403540aabb671a5428da980b
DTSTAMP:20260419T174907Z
SUMMARY:Jewish Women Artists Through the Ages
DESCRIPTION:Jewish Federation of the Berkshires\nBerkshire Jewish Community
  Calendar\nhttps://jewishberkshires.org/jewish-federation-of-the-berkshire
 s-calendar/jewish-women-artists\n\nJewish Women Artists examines the vario
 us art forms created by female painters\, sculptors\, printmakers\, and ph
 otographers.
DTSTART;TZID=America/New_York:20201029T184500
DTEND;TZID=America/New_York:20201029T194500
END:VEVENT
END:VCALENDAR
