BEGIN:VCALENDAR
PRODID:-//eluceo/ical//2.0/EN
VERSION:2.0
CALSCALE:GREGORIAN
BEGIN:VEVENT
UID:2dce38276ec6a47cbf0ac56e180a2ac1
DTSTAMP:20260421T174256Z
SUMMARY:Jewish War Veterans Post 140 meeting
DESCRIPTION:Jewish Federation of the Berkshires\nBerkshire Jewish Community
  Calendar\nhttps://jewishberkshires.org/jewish-federation-of-the-berkshire
 s-calendar/jewish-war-veterans-post-140-meeting\n\nJewish War Veterans Pos
 t 140 will hold their first monthly meeting in the conference room at the 
 Jewish Federation of the Berkshires' office. 
DTSTART;TZID=America/New_York:20160628T100000
DTEND;TZID=America/New_York:20160628T110000
END:VEVENT
END:VCALENDAR
