BEGIN:VCALENDAR
PRODID:-//eluceo/ical//2.0/EN
VERSION:2.0
CALSCALE:GREGORIAN
BEGIN:VEVENT
UID:35b5c5dda2e4f3bb5d82f7416157a6db
DTSTAMP:20260424T093902Z
SUMMARY:Jewish Roots of Modern American Star-chitects
DESCRIPTION:Jewish Federation of the Berkshires\nBerkshire Jewish Community
  Calendar\nhttps://jewishberkshires.org/jewish-federation-of-the-berkshire
 s-calendar/jewish-roots-of-modern-american-star-chitects\n\nPlease registe
 r HERE.\n\nThis presentation by Richard Rivin highlights the background an
 d work of nine Jewish architects who have designed well-known buildings wi
 thin the United States and around the world. (Richard Neutra\, Victor Grue
 n\, Louis Kahn\, Max Abramovitz\, Eero Saarinen\, Frank Gehry\, Denise Sco
 tt Brown\, Moshe Safdie\, and Daniel Libeskind.)   These architects have
  been recognized as having achieved celebrity (“Star”) status\, both n
 ationally and internationally\, for their substan...
DTSTART;TZID=America/New_York:20250220T190000
DTEND;TZID=America/New_York:20250220T200000
END:VEVENT
END:VCALENDAR
