BEGIN:VCALENDAR
PRODID:-//eluceo/ical//2.0/EN
VERSION:2.0
CALSCALE:GREGORIAN
BEGIN:VEVENT
UID:bdd83dcb58a3e88b4e8da80b50ba2e42
DTSTAMP:20260424T041439Z
SUMMARY:Jewish Radial Feminism: An evening with Dr. Joyce Antler
DESCRIPTION:Jewish Federation of the Berkshires\nBerkshire Jewish Community
  Calendar\nhttps://jewishberkshires.org/jewish-federation-of-the-berkshire
 s-calendar/jewish-radial-feminism-an-evening-with-dr-joyce-antler-15615650
 27\n\nJoin us at Temple Anshe Amunim  for an evening with Dr. Joyce Antler
 \, Samuel J. Lane Professor Emerita of American Jewish History and Culture
  and Professor Emerita of Women's\, Gender and Sexuality Studies at Brande
 is University.  Dr. Antler’s book\, Jewish Radical Feminism\, places wom
 en’s activism at the center of feminist and Jewish narratives. Hear stor
 ies of Jewish feminists\, illustrating how women’s liberation and Jewish
  feminism unfolded over the course of the lives of an...
DTSTART;TZID=America/New_York:20190714T170000
DTEND;TZID=America/New_York:20190714T183000
END:VEVENT
END:VCALENDAR
