BEGIN:VCALENDAR
PRODID:-//eluceo/ical//2.0/EN
VERSION:2.0
CALSCALE:GREGORIAN
BEGIN:VEVENT
UID:5ed73930e7324e346566706deff06db6
DTSTAMP:20260421T142415Z
SUMMARY:Jewish Parenting Book Club
DESCRIPTION:Jewish Federation of the Berkshires\nBerkshire Jewish Community
  Calendar\nhttps://jewishberkshires.org/jewish-federation-of-the-berkshire
 s-calendar/jewish-parenting-book-club-1607112893\n\nJoin us via Zoom to di
 scuss the New York Times Best Seller by Ron Lieber: The Opposite of Spoile
 d: Raising Kids who are Grounded\, Generous and Smart about Money\n\nTo re
 gister: tinyurl.com/TaaDecParentingBookClub
DTSTART;TZID=America/New_York:20201217T200000
DTEND;TZID=America/New_York:20201217T220000
END:VEVENT
END:VCALENDAR
