BEGIN:VCALENDAR
PRODID:-//eluceo/ical//2.0/EN
VERSION:2.0
CALSCALE:GREGORIAN
BEGIN:VEVENT
UID:87213e51152869467259b96571873fcd
DTSTAMP:20260421T185436Z
SUMMARY:Jewish Literacy: Seeking Out New Frontiers
DESCRIPTION:Jewish Federation of the Berkshires\nBerkshire Jewish Community
  Calendar\nhttps://jewishberkshires.org/jewish-federation-of-the-berkshire
 s-calendar/jewish-literacy-seeking-out-new-frontiers\n\nhe Jewish Federati
 on of the Berkshires presents: Knosh & Knowledge Jewish Literacy: Seeking 
 Out New Frontiers with author and gallery owner\, Richard Michelson
DTSTART;TZID=America/New_York:20160909T104500
DTEND;TZID=America/New_York:20160909T120000
END:VEVENT
END:VCALENDAR
