BEGIN:VCALENDAR
PRODID:-//eluceo/ical//2.0/EN
VERSION:2.0
CALSCALE:GREGORIAN
BEGIN:VEVENT
UID:4ad4b41b065139fd849719fc0a7c12d5
DTSTAMP:20260423T010015Z
SUMMARY:Jewish Journeys with Rabbi Josh
DESCRIPTION:Jewish Federation of the Berkshires\nBerkshire Jewish Community
  Calendar\nhttps://jewishberkshires.org/jewish-federation-of-the-berkshire
 s-calendar/jewish-journeys-with-rabbi-josh\n\nJewish Journeys with Rabbi J
 osh
DTSTART;TZID=America/New_York:20131201T130000
DTEND;TZID=America/New_York:20131201T150000
END:VEVENT
END:VCALENDAR
