BEGIN:VCALENDAR
PRODID:-//eluceo/ical//2.0/EN
VERSION:2.0
CALSCALE:GREGORIAN
BEGIN:VEVENT
UID:3b42c8e37263e2955b4ca816130a52a2
DTSTAMP:20260420T100455Z
SUMMARY:Jewish Journey Group
DESCRIPTION:Jewish Federation of the Berkshires\nBerkshire Jewish Community
  Calendar\nhttps://jewishberkshires.org/jewish-federation-of-the-berkshire
 s-calendar/jewish-journey-group-1426714625\n\nThe group will meet: March 2
 3\, March 30\, April 20\, April 27\, May 4\, May 18\nThe Jewish Journey Gr
 oup will meet on Mondays\, to discuss Reb Zalman's book\, "Jewish With Fee
 ling" (one chapter each week) and share our individual experiences\, quest
 ions and challenges on our Jewish journey.  The group will be co-facilitat
 ed by Rabba Kaya Stern-Kaufman and Jennifer Krueger. 
DTSTART;TZID=America/New_York:20150518T190000
DTEND;TZID=America/New_York:20150518T210000
END:VEVENT
END:VCALENDAR
