BEGIN:VCALENDAR
PRODID:-//eluceo/ical//2.0/EN
VERSION:2.0
CALSCALE:GREGORIAN
BEGIN:VEVENT
UID:2a357be8e2bab88e47c3a24cfad2488e
DTSTAMP:20260420T062828Z
SUMMARY:Jewish-Jazz Connections
DESCRIPTION:Jewish Federation of the Berkshires\nBerkshire Jewish Community
  Calendar\nhttps://jewishberkshires.org/jewish-federation-of-the-berkshire
 s-calendar/jewish-jazz-connections-1513101059\n\nFeaturing the Gypsy Jazz 
 Ambassadors: Charlie Tokarz (woodwinds)\, Eileen Markland (violin)\, John 
 Kelly (double bass) and Andy Kelly (guitar and lead speaker)\n\nThe evenin
 g’s theme will highlight contributions that Jewish musicians have made t
 o jazz.\n\n$10 admission
DTSTART;TZID=America/New_York:20180506T193000
DTEND;TZID=America/New_York:20180506T213000
END:VEVENT
END:VCALENDAR
