BEGIN:VCALENDAR
PRODID:-//eluceo/ical//2.0/EN
VERSION:2.0
CALSCALE:GREGORIAN
BEGIN:VEVENT
UID:e185afa6511f916722bc2b967e96d750
DTSTAMP:20260420T163358Z
SUMMARY:Jewish Identity-Truth\, Fear\, Hopes\, Illusions- 92nd Street Y Lec
 ture Series
DESCRIPTION:Jewish Federation of the Berkshires\nBerkshire Jewish Community
  Calendar\nhttps://jewishberkshires.org/jewish-federation-of-the-berkshire
 s-calendar/jewish-identity-truth-fear-hopes-illusions-92nd-street-y-lectur
 e-series\n\nJewish Identity: The Truths\, Fear\, Hopes and Illusions at th
 is thought provoking pre-recorded talk from the renowned 92nd Street Y in 
 New York City.
DTSTART;TZID=America/New_York:20181227T104500
DTEND;TZID=America/New_York:20181227T120000
END:VEVENT
END:VCALENDAR
