BEGIN:VCALENDAR
PRODID:-//eluceo/ical//2.0/EN
VERSION:2.0
CALSCALE:GREGORIAN
BEGIN:VEVENT
UID:5435665dd7df6f26e103be3b0c91dc95
DTSTAMP:20260424T064836Z
SUMMARY:Jewish Graphic Artists: A presentation and talk by Arthur Hillman
DESCRIPTION:Jewish Federation of the Berkshires\nBerkshire Jewish Community
  Calendar\nhttps://jewishberkshires.org/jewish-federation-of-the-berkshire
 s-calendar/jewish-graphic-artists-a-presentation-and-talk-by-arthur-hillma
 n-1547064843\n\nCAS member Arthur Hillman will be showing and discussing t
 he art and design work of Jewish graphic artists Ben Shahn\, Leonard Baski
 n\, Elaine Lustig Cohen\, Milton Glaser\, and Barbara Kruger\, as well as 
 his own work. Particular attention will be given to creations that combine
  words and images in unique ways.\nRefreshments served. Donations apprecia
 ted.
DTSTART;TZID=America/New_York:20190224T140000
DTEND;TZID=America/New_York:20190224T153000
END:VEVENT
END:VCALENDAR
