BEGIN:VCALENDAR
PRODID:-//eluceo/ical//2.0/EN
VERSION:2.0
CALSCALE:GREGORIAN
BEGIN:VEVENT
UID:57b52c1b2faf6623ec6925d2dc978a7e
DTSTAMP:20260424T011255Z
SUMMARY:Jewish Genealogy: Naming Patterns and the Value of Jewish Cemetery 
 Records
DESCRIPTION:Jewish Federation of the Berkshires\nBerkshire Jewish Community
  Calendar\nhttps://jewishberkshires.org/jewish-federation-of-the-berkshire
 s-calendar/jewish-genealogy-naming-patterns-and-the-value-of-jewish-cemete
 ry-records-1505242779\n\nNolan Altman will present: “Jewish Genealogy: N
 aming Patterns and the Value of Jewish Cemetery Records” to the Western 
 Massachusetts Jewish Genealogy Society at Congregation B'Nai Israel in Nor
 thampton at 7:00pm on October 23\, 2017. This lecture is free and open to 
 the public. 
DTSTART;TZID=America/New_York:20171023T190000
DTEND;TZID=America/New_York:20171023T203000
END:VEVENT
END:VCALENDAR
