BEGIN:VCALENDAR
PRODID:-//eluceo/ical//2.0/EN
VERSION:2.0
CALSCALE:GREGORIAN
BEGIN:VEVENT
UID:8f112569a764cf29e626eed61077a357
DTSTAMP:20260420T091925Z
SUMMARY:Jewish Veg: What's Jewish about a plant-based lifestyle?
DESCRIPTION:Jewish Federation of the Berkshires\nBerkshire Jewish Community
  Calendar\nhttps://jewishberkshires.org/jewish-federation-of-the-berkshire
 s-calendar/jewish-food-vegetarianism-and-our-earth\n\nCurious about what J
 udaism says about the power of a plant-based lifestyle?\n\nIn this era of 
 climate crisis\, it’s more essential than ever before to be conscious of
  the impact of our choices. Caring for the Earth and our physical well-bei
 ng are among our most fundamental values\, as a people attuned to the cycl
 e of time and seasons\, as well as the health of our bodies.  How do we i
 ntegrate that with the food we eat?\n\nAs we prepare for Shavuot and engag
 e in a community wide conversation o...
DTSTART;TZID=America/New_York:20230525T104500
DTEND;TZID=America/New_York:20230525T114500
END:VEVENT
END:VCALENDAR
