BEGIN:VCALENDAR
PRODID:-//eluceo/ical//2.0/EN
VERSION:2.0
CALSCALE:GREGORIAN
BEGIN:VEVENT
UID:48180c0bd0cd1fe2f5dbafcfc503db0c
DTSTAMP:20260419T203938Z
SUMMARY:POSTPONED: Jewish Federation of the Berkshires' Executive Committee
  Meeting
DESCRIPTION:Jewish Federation of the Berkshires\nBerkshire Jewish Community
  Calendar\nhttps://jewishberkshires.org/jewish-federation-of-the-berkshire
 s-calendar/jewish-federatiotgb\n\nJewish Federation of the Berkshires' Exe
 cutive Committee Meeting
DTSTART;TZID=America/New_York:20191202T120000
DTEND;TZID=America/New_York:20191202T140000
END:VEVENT
END:VCALENDAR
