BEGIN:VCALENDAR
PRODID:-//eluceo/ical//2.0/EN
VERSION:2.0
CALSCALE:GREGORIAN
BEGIN:VEVENT
UID:5accea5efd0117d6b72a29ae77d03b9b
DTSTAMP:20260422T042103Z
SUMMARY:Jewish Federation Follow-up Phone-a-thon for Annual Campaign
DESCRIPTION:Jewish Federation of the Berkshires\nBerkshire Jewish Community
  Calendar\nhttps://jewishberkshires.org/jewish-federation-of-the-berkshire
 s-calendar/jewish-federation-super-sunday-follow-up-phone-a-thon-at-federa
 tion-office---\n\nFollow up phone-a-thon
DTSTART;TZID=America/New_York:20170612T183000
DTEND;TZID=America/New_York:20170612T200000
END:VEVENT
END:VCALENDAR
