BEGIN:VCALENDAR
PRODID:-//eluceo/ical//2.0/EN
VERSION:2.0
CALSCALE:GREGORIAN
BEGIN:VEVENT
UID:be2d119afa723ba3a84fe37a98559b9b
DTSTAMP:20260421T080220Z
SUMMARY:Jewish Federation Phone-a-thon
DESCRIPTION:Jewish Federation of the Berkshires\nBerkshire Jewish Community
  Calendar\nhttps://jewishberkshires.org/jewish-federation-of-the-berkshire
 s-calendar/jewish-federation-phone-a-thon\n\nFollow-up Phone-a-thon for An
 nual Campaign
DTSTART;TZID=America/New_York:20170823T183000
DTEND;TZID=America/New_York:20170823T203000
END:VEVENT
END:VCALENDAR
