BEGIN:VCALENDAR
PRODID:-//eluceo/ical//2.0/EN
VERSION:2.0
CALSCALE:GREGORIAN
BEGIN:VEVENT
UID:fd0b4c94c9c52180b39f7875c5745632
DTSTAMP:20260426T014100Z
SUMMARY:Jewish Federation of the Berkshires' Major Donors' Breakfast
DESCRIPTION:Jewish Federation of the Berkshires\nBerkshire Jewish Community
  Calendar\nhttps://jewishberkshires.org/jewish-federation-of-the-berkshire
 s-calendar/jewish-federation-of-the-berkshires-major-donors-breakfast\n\nJ
 ewish Federation's Major Donors' Breakfast
DTSTART;TZID=America/New_York:20150712T093000
DTEND;TZID=America/New_York:20150712T120000
END:VEVENT
END:VCALENDAR
