BEGIN:VCALENDAR
PRODID:-//eluceo/ical//2.0/EN
VERSION:2.0
CALSCALE:GREGORIAN
BEGIN:VEVENT
UID:d735277458774d802b21412883e12cf5
DTSTAMP:20260420T184337Z
SUMMARY:Jewish Federation of the Berkshires' Executive Committee Meeting
DESCRIPTION:Jewish Federation of the Berkshires\nBerkshire Jewish Community
  Calendar\nhttps://jewishberkshires.org/jewish-federation-of-the-berkshire
 s-calendar/jewish-federation-of-the-berkshires-executive-committee-meeting
 8-\n\nJewish Federation of the Berkshires' Executive Committee Meeting
DTSTART;TZID=America/New_York:20210913T194500
DTEND;TZID=America/New_York:20210913T210000
END:VEVENT
END:VCALENDAR
