BEGIN:VCALENDAR
PRODID:-//eluceo/ical//2.0/EN
VERSION:2.0
CALSCALE:GREGORIAN
BEGIN:VEVENT
UID:49d135bc52bedf28ad6138bf16bf6402
DTSTAMP:20260420T073100Z
SUMMARY:Jewish Federation of the Berkshires' Executive Committee Meeting
DESCRIPTION:Jewish Federation of the Berkshires\nBerkshire Jewish Community
  Calendar\nhttps://jewishberkshires.org/jewish-federation-of-the-berkshire
 s-calendar/jewish-federation-of-the-berkshires-exec20224utive-committee-me
 eting\n\nJewish Federation of the Berkshires' Executive Committee Meeting
DTSTART;TZID=America/New_York:20220404T090000
DTEND;TZID=America/New_York:20220404T110000
END:VEVENT
END:VCALENDAR
