BEGIN:VCALENDAR
PRODID:-//eluceo/ical//2.0/EN
VERSION:2.0
CALSCALE:GREGORIAN
BEGIN:VEVENT
UID:4738616bd3220f64ba39a5bbe918ba92
DTSTAMP:20260420T132111Z
SUMMARY:Jewish Federation of the Berkshires Benefit Concert
DESCRIPTION:Jewish Federation of the Berkshires\nBerkshire Jewish Community
  Calendar\nhttps://jewishberkshires.org/jewish-federation-of-the-berkshire
 s-calendar/jewish-federation-of-the-berkshires-benefit-concert\n\nJewish F
 ederation of the Berkshires Benefit Concer
DTSTART;TZID=America/New_York:20140803T193000
DTEND;TZID=America/New_York:20140803T223000
END:VEVENT
END:VCALENDAR
