BEGIN:VCALENDAR
PRODID:-//eluceo/ical//2.0/EN
VERSION:2.0
CALSCALE:GREGORIAN
BEGIN:VEVENT
UID:9cb63472f6ff9f3c793c15ec28232ae2
DTSTAMP:20260423T030135Z
SUMMARY:Jewish Federation of the Berkshires Executive Committee Meeting
DESCRIPTION:Jewish Federation of the Berkshires\nBerkshire Jewish Community
  Calendar\nhttps://jewishberkshires.org/jewish-federation-of-the-berkshire
 s-calendar/jewish-federation-of-the-berkshires\n\nInstead of having a Boar
 d meeting\, board members will be assigned thank-you calls to Major Donors
 .\n\n 
DTSTART;TZID=America/New_York:20240318T190000
DTEND;TZID=America/New_York:20240318T210000
END:VEVENT
END:VCALENDAR
