BEGIN:VCALENDAR
PRODID:-//eluceo/ical//2.0/EN
VERSION:2.0
CALSCALE:GREGORIAN
BEGIN:VEVENT
UID:abb8b18ab3c889ed0e53c0d5b51c0f55
DTSTAMP:20260420T072919Z
SUMMARY:Jewish Federation of the Berkshires' Executive Committee Meeting
DESCRIPTION:Jewish Federation of the Berkshires\nBerkshire Jewish Community
  Calendar\nhttps://jewishberkshires.org/jewish-federation-of-the-berkshire
 s-calendar/jewish-federation-of-the-berkshire-s-executive-committee-meetin
 g\n\nJewish Federation of the Berkshires' Executive Committee Meeting
DTSTART;TZID=America/New_York:20200302T120000
DTEND;TZID=America/New_York:20200302T140000
END:VEVENT
END:VCALENDAR
