BEGIN:VCALENDAR
PRODID:-//eluceo/ical//2.0/EN
VERSION:2.0
CALSCALE:GREGORIAN
BEGIN:VEVENT
UID:259a1f2e1225733eee5b5ea2608f451a
DTSTAMP:20260425T191610Z
SUMMARY:Perspectives on the Middle East: Israel\, Iran and ISIS
DESCRIPTION:Jewish Federation of the Berkshires\nBerkshire Jewish Community
  Calendar\nhttps://jewishberkshires.org/jewish-federation-of-the-berkshire
 s-calendar/jewish-federation-middle-east-update\n\nMiddle East Update with
  Ralph Nurnberger
DTSTART;TZID=America/New_York:20151025T193000
DTEND;TZID=America/New_York:20151025T220000
END:VEVENT
END:VCALENDAR
