BEGIN:VCALENDAR
PRODID:-//eluceo/ical//2.0/EN
VERSION:2.0
CALSCALE:GREGORIAN
BEGIN:VEVENT
UID:117f71c176b94e4ea2a7ff4647e69f99
DTSTAMP:20260420T165333Z
SUMMARY:Maimonides Society: Maimonides as a Physician of the Body and Soul
DESCRIPTION:Jewish Federation of the Berkshires\nBerkshire Jewish Community
  Calendar\nhttps://jewishberkshires.org/jewish-federation-of-the-berkshire
 s-calendar/jewish-federation-maimonides-societys-annual-event\n\n4th annua
 l Maimonides Society' Meeting. Maimondies as a Physician of the Body and S
 oul with guest speaker\, Alfed Ivry\, PhD.
DTSTART;TZID=America/New_York:20170820T100000
DTEND;TZID=America/New_York:20170820T120000
END:VEVENT
END:VCALENDAR
