BEGIN:VCALENDAR
PRODID:-//eluceo/ical//2.0/EN
VERSION:2.0
CALSCALE:GREGORIAN
BEGIN:VEVENT
UID:d3ca9e04f54538736149d8f5fb33ddb6
DTSTAMP:20260420T044343Z
SUMMARY:Jewish Federation Knosh & Knowledge "H.G. Adler's Shoah Trilogy"
DESCRIPTION:Jewish Federation of the Berkshires\nBerkshire Jewish Community
  Calendar\nhttps://jewishberkshires.org/jewish-federation-of-the-berkshire
 s-calendar/jewish-federation-knosh-knowledge-hg-adlers-shoah-trilogy\n\nTh
 e Jewish Federation of the Berkshires presents Knosh & Knowledge with Pete
 r Filkins\, the Richard B. Fisher Professor of Literature at Bard College 
 at Simon’s Rock\, who will discuss author H.G. Adler’s Shoah Trilogy. 
DTSTART;TZID=America/New_York:20150814T104500
DTEND;TZID=America/New_York:20150814T130000
END:VEVENT
END:VCALENDAR
