BEGIN:VCALENDAR
PRODID:-//eluceo/ical//2.0/EN
VERSION:2.0
CALSCALE:GREGORIAN
BEGIN:VEVENT
UID:04940242c8436bb9ca95ce3aac811600
DTSTAMP:20260425T191740Z
SUMMARY:Jewish Federation of the Berkshires' Executive Committee Meeting
DESCRIPTION:Jewish Federation of the Berkshires\nBerkshire Jewish Community
  Calendar\nhttps://jewishberkshires.org/jewish-federation-of-the-berkshire
 s-calendar/jewish-federation-executive-committee-meeting--\n\nJewish Feder
 ation Executive Committee Meeting
DTSTART;TZID=America/New_York:20200106T120000
DTEND;TZID=America/New_York:20200106T140000
END:VEVENT
END:VCALENDAR
