BEGIN:VCALENDAR
PRODID:-//eluceo/ical//2.0/EN
VERSION:2.0
CALSCALE:GREGORIAN
BEGIN:VEVENT
UID:f9f88dc03a3093fcfdede4577fbff1ce
DTSTAMP:20260421T085836Z
SUMMARY:Jewish Federation Connecting with Community with Alan Morganstein
DESCRIPTION:Jewish Federation of the Berkshires\nBerkshire Jewish Community
  Calendar\nhttps://jewishberkshires.org/jewish-federation-of-the-berkshire
 s-calendar/jewish-federation-connecting-with-community-with-alan-morganste
 in\n\nThe Jewish Federation of the Berkshires' Connecting with Community s
 eries welcomes Alan Morganstein who will present a program on his recent t
 rip to Berlin\, Germany.
DTSTART;TZID=America/New_York:20151015T104500
DTEND;TZID=America/New_York:20151015T120000
END:VEVENT
END:VCALENDAR
