BEGIN:VCALENDAR
PRODID:-//eluceo/ical//2.0/EN
VERSION:2.0
CALSCALE:GREGORIAN
BEGIN:VEVENT
UID:bac0d0442bc7af29ddb7625f1e22c900
DTSTAMP:20260419T191445Z
SUMMARY:Jewish Federation Connecting with Community WFF Wind-Up Fest
DESCRIPTION:Jewish Federation of the Berkshires\nBerkshire Jewish Community
  Calendar\nhttps://jewishberkshires.org/jewish-federation-of-the-berkshire
 s-calendar/jewish-federation-connecting-with-community-wff-wind-up-fest\n\
 nThe Jewish Federation of the Berkshires' Connecting with Community series
  introduces Paul Sturtz\, the new artistic director of the WFF Presents: W
 ind-Up Fest - formerly the Williamstown Film Festival (WFF).  
DTSTART;TZID=America/New_York:20150924T104500
DTEND;TZID=America/New_York:20150924T120000
END:VEVENT
END:VCALENDAR
