BEGIN:VCALENDAR
PRODID:-//eluceo/ical//2.0/EN
VERSION:2.0
CALSCALE:GREGORIAN
BEGIN:VEVENT
UID:0ca311b3b56ada43bd27f1da0ccba720
DTSTAMP:20260420T170410Z
SUMMARY:Jewish Federation Connecting with Community "Sing Along to Songs"
DESCRIPTION:Jewish Federation of the Berkshires\nBerkshire Jewish Community
  Calendar\nhttps://jewishberkshires.org/jewish-federation-of-the-berkshire
 s-calendar/jewish-federation-connecting-with-community-sing-along-to-songs
 \n\nThe Jewish Federation of the Berkshires' Connecting with Community ser
 ies presents "Sing Along to Songs from the Golden Age" with musician and s
 inger\, Paula Farbman.
DTSTART;TZID=America/New_York:20150806T104500
DTEND;TZID=America/New_York:20150806T120000
END:VEVENT
END:VCALENDAR
