BEGIN:VCALENDAR
PRODID:-//eluceo/ical//2.0/EN
VERSION:2.0
CALSCALE:GREGORIAN
BEGIN:VEVENT
UID:67be0fc461d90037282c634eeeba01fb
DTSTAMP:20260424T205253Z
SUMMARY:"QiGong" with Jeffrey Gordon
DESCRIPTION:Jewish Federation of the Berkshires\nBerkshire Jewish Community
  Calendar\nhttps://jewishberkshires.org/jewish-federation-of-the-berkshire
 s-calendar/jewish-federation-connecting-with-community-qigong-with-jeffrey
 -gordon\n\nThe Jewish Federation of the Berkshires Connecting with Communi
 ty presents  "QiGong - A Simple\, Natural Exercise to Enhance your Well-Be
 ing" with acupuncturist and Qigong instructor\, Jeffrey Gordon. 
DTSTART;TZID=America/New_York:20170330T104500
DTEND;TZID=America/New_York:20170330T120000
END:VEVENT
END:VCALENDAR
