BEGIN:VCALENDAR
PRODID:-//eluceo/ical//2.0/EN
VERSION:2.0
CALSCALE:GREGORIAN
BEGIN:VEVENT
UID:aba03379289ad8a656c80853cdb7e14d
DTSTAMP:20260424T123152Z
SUMMARY:Jewish Federation Connecting with Community "Maintaining Healthy Ea
 ting"
DESCRIPTION:Jewish Federation of the Berkshires\nBerkshire Jewish Community
  Calendar\nhttps://jewishberkshires.org/jewish-federation-of-the-berkshire
 s-calendar/jewish-federation-connecting-with-community-maintaining-healthy
 -eating\n\nThe Jewish Federation of the Berkshires' Connecting with Commun
 ity series will be joined by nutritionist\, Deb Phillips\, who will speak 
 about maintaining healthy eating habits.
DTSTART;TZID=America/New_York:20150903T104500
DTEND;TZID=America/New_York:20150903T120000
END:VEVENT
END:VCALENDAR
