BEGIN:VCALENDAR
PRODID:-//eluceo/ical//2.0/EN
VERSION:2.0
CALSCALE:GREGORIAN
BEGIN:VEVENT
UID:b261361fcac131d3d6e4ccb5304bfb35
DTSTAMP:20260424T080819Z
SUMMARY:Jewish Federation Connecting with Community "Jewish Writers"
DESCRIPTION:Jewish Federation of the Berkshires\nBerkshire Jewish Community
  Calendar\nhttps://jewishberkshires.org/jewish-federation-of-the-berkshire
 s-calendar/jewish-federation-connecting-with-community-jewish-writers\n\nT
 he Jewish Federation of the Berkshires' Connecting with Community series p
 resents Jewish Writers: The Achievements of British Historian Martin Gilbe
 rt. 
DTSTART;TZID=America/New_York:20151008T104500
DTEND;TZID=America/New_York:20151008T120000
END:VEVENT
END:VCALENDAR
