BEGIN:VCALENDAR
PRODID:-//eluceo/ical//2.0/EN
VERSION:2.0
CALSCALE:GREGORIAN
BEGIN:VEVENT
UID:508b736122f3508737caf4bf70e63102
DTSTAMP:20260421T212351Z
SUMMARY:Jewish Federation Connecting with Community author Ruth Sidransky
DESCRIPTION:Jewish Federation of the Berkshires\nBerkshire Jewish Community
  Calendar\nhttps://jewishberkshires.org/jewish-federation-of-the-berkshire
 s-calendar/jewish-federation-connecting-with-community-author-ruth-sidrans
 ky\n\nThe Jewish Federation of the Berkshires' Connecting with Community s
 eries presents author Ruth Sidransky. 
DTSTART;TZID=America/New_York:20151001T104500
DTEND;TZID=America/New_York:20151001T120000
END:VEVENT
END:VCALENDAR
