BEGIN:VCALENDAR
PRODID:-//eluceo/ical//2.0/EN
VERSION:2.0
CALSCALE:GREGORIAN
BEGIN:VEVENT
UID:baa58599f4e8defaed7191129d11c12c
DTSTAMP:20260421T222528Z
SUMMARY:Jewish Earth Alliance Speaker Event
DESCRIPTION:Jewish Federation of the Berkshires\nBerkshire Jewish Community
  Calendar\nhttps://jewishberkshires.org/jewish-federation-of-the-berkshire
 s-calendar/jewish-earth-alliance-speaker-event-1615907961\n\nJoin us to he
 ar Ann Bennett from the Jewish Earth Alliance speak about her experience a
 s an environmental advocate and to learn where we as American Jews fit int
 o the fight for climate change policy! This event is sponsored by the Will
 iams College Jewish Association and is open to members of the Berkshire Je
 wish community.\n\nAnn Bennett worked on Capitol Hill for Rep. Robert J. M
 razek focusing on federal public lands issues. She currently serves on the
  Board of the Virginia Chapter of the Si...
DTSTART;TZID=America/New_York:20210412T200000
DTEND;TZID=America/New_York:20210412T213000
END:VEVENT
END:VCALENDAR
