BEGIN:VCALENDAR
PRODID:-//eluceo/ical//2.0/EN
VERSION:2.0
CALSCALE:GREGORIAN
BEGIN:VEVENT
UID:af60d67d3f5685898ea803e29fcfdaf9
DTSTAMP:20260423T212816Z
SUMMARY:Jewish Caroling
DESCRIPTION:Jewish Federation of the Berkshires\nBerkshire Jewish Community
  Calendar\nhttps://jewishberkshires.org/jewish-federation-of-the-berkshire
 s-calendar/jewish-caroling-1650566741\n\nJewish Caroling: The Music of Car
 ole King\, Carole Bayer Sager and Carolyn Leigh
DTSTART;TZID=America/New_York:20220718T190000
DTEND;TZID=America/New_York:20220718T210000
END:VEVENT
END:VCALENDAR
