BEGIN:VCALENDAR
PRODID:-//eluceo/ical//2.0/EN
VERSION:2.0
CALSCALE:GREGORIAN
BEGIN:VEVENT
UID:fa825fe98048f348e5c647e5ad68f103
DTSTAMP:20260420T183819Z
SUMMARY:"Jewish Broadway”:  journey from The Yiddish Theatre to today
DESCRIPTION:Jewish Federation of the Berkshires\nBerkshire Jewish Community
  Calendar\nhttps://jewishberkshires.org/jewish-federation-of-the-berkshire
 s-calendar/jewish-broadway--journey-from-the-yiddish-theatre-to-today-1415
 473294\n\nMACEY LEVIN\, director and a co-founder of Aglet Theatre\, will 
 speak about  the contributions of America&#039\;s Jewish population to Bro
 adway.\n
DTSTART;TZID=America/New_York:20141118T190000
DTEND;TZID=America/New_York:20141118T203000
END:VEVENT
END:VCALENDAR
