BEGIN:VCALENDAR
PRODID:-//eluceo/ical//2.0/EN
VERSION:2.0
CALSCALE:GREGORIAN
BEGIN:VEVENT
UID:732f035e7287ada71a981b71673f1436
DTSTAMP:20260421T230428Z
SUMMARY:Itzhak Perlman in Conversation with Alan Alda-92nd Street Y Lecture
  Series
DESCRIPTION:Jewish Federation of the Berkshires\nBerkshire Jewish Community
  Calendar\nhttps://jewishberkshires.org/jewish-federation-of-the-berkshire
 s-calendar/itzhak-perlman-in-conversation-with-alan-alda-92nd-street-y-lec
 ture-series\n\nJewish Federation of the Berkshires\, in collaboration with
  Kimball Farms\, will screen thought provoking pre-recorded talks from the
  renowned 92nd Street Y in New York City.
DTSTART;TZID=America/New_York:20190327T140000
DTEND;TZID=America/New_York:20190327T160000
END:VEVENT
END:VCALENDAR
