BEGIN:VCALENDAR
PRODID:-//eluceo/ical//2.0/EN
VERSION:2.0
CALSCALE:GREGORIAN
BEGIN:VEVENT
UID:63073c85477d6319b13d07905e03598f
DTSTAMP:20260420T043837Z
SUMMARY:It's Lili's Story
DESCRIPTION:Jewish Federation of the Berkshires\nBerkshire Jewish Community
  Calendar\nhttps://jewishberkshires.org/jewish-federation-of-the-berkshire
 s-calendar/its-lilis-story\n\nHear violinist Lili Harvitt tell her story a
 s a young Jewish child during the Holocaust 
DTSTART;TZID=America/New_York:20160506T100000
DTEND;TZID=America/New_York:20160506T120000
END:VEVENT
END:VCALENDAR
