BEGIN:VCALENDAR
PRODID:-//eluceo/ical//2.0/EN
VERSION:2.0
CALSCALE:GREGORIAN
BEGIN:VEVENT
UID:377204eb530c62994e4bdbcd6ad271cc
DTSTAMP:20260424T105039Z
SUMMARY:It's Complicated - An Eye Opening Visit
DESCRIPTION:Jewish Federation of the Berkshires\nBerkshire Jewish Community
  Calendar\nhttps://jewishberkshires.org/jewish-federation-of-the-berkshire
 s-calendar/its-complicated-an-eye-opening-visit\n\nThe Jewish Federation C
 onnecting with Community program welcomes Sate Representative Paul W. Mark
  for the 2nd Berkshire District of MA on "It's Complicated - An Eye Openin
 g Visit".
DTSTART;TZID=America/New_York:20161027T104500
DTEND;TZID=America/New_York:20161027T120000
END:VEVENT
END:VCALENDAR
