BEGIN:VCALENDAR
PRODID:-//eluceo/ical//2.0/EN
VERSION:2.0
CALSCALE:GREGORIAN
BEGIN:VEVENT
UID:494946a2d0e4fb2106945984a2f00580
DTSTAMP:20260423T014512Z
SUMMARY:It all depends on how you look at it! - Ruth Breindel guest speaker
DESCRIPTION:Jewish Federation of the Berkshires\nBerkshire Jewish Community
  Calendar\nhttps://jewishberkshires.org/jewish-federation-of-the-berkshire
 s-calendar/it-all-depends-on-how-you-look-at-it---ruth-breindel-guest-spea
 ker-1469544729\n\nWhat does it mean to look at things in a new way? Recent
 ly scholars have found that the statues from the ancient world were not th
 e pristine white we have always seen\, but were really painted\; medieval 
 palimpsests can reveal ancient texts\; and even looking at a common text f
 rom a different angle can bring new meaning to it. We will explore these a
 nd other examples in a multi-media presentation. Bring your own lunch. Col
 d beverages/desserts will be served.
DTSTART;TZID=America/New_York:20160818T120000
DTEND;TZID=America/New_York:20160818T133000
END:VEVENT
END:VCALENDAR
