BEGIN:VCALENDAR
PRODID:-//eluceo/ical//2.0/EN
VERSION:2.0
CALSCALE:GREGORIAN
BEGIN:VEVENT
UID:f8f05ab9ee23e01965f23877367a5e73
DTSTAMP:20260425T160155Z
SUMMARY:Israel at 70
DESCRIPTION:Jewish Federation of the Berkshires\nBerkshire Jewish Community
  Calendar\nhttps://jewishberkshires.org/jewish-federation-of-the-berkshire
 s-calendar/israel-at-70-1512502620\n\nA new curriculum being developed by 
 Dr. Rachel Korazim\n\nFacilitated by Rabbi David Weiner\n\nAliyah and Abso
 rption/Aliyah for the Jews of Morocco\n\nThere will be seven units in more
  than seven sessions\, one unit for each decade of Israel’s existence as
  a state. We will study authentic voices of Israeli writers who give poeti
 c expression to stories of revival\, struggles for security and peace\, an
 d efforts to balance contradictory perspectives. Tools:multimedia presenta
 tions\, songs\, study ...
DTSTART;TZID=America/New_York:20180206T193000
DTEND;TZID=America/New_York:20180206T213000
END:VEVENT
END:VCALENDAR
