BEGIN:VCALENDAR
PRODID:-//eluceo/ical//2.0/EN
VERSION:2.0
CALSCALE:GREGORIAN
BEGIN:VEVENT
UID:ed72f19bcbd2514c3cb7072c9a1962f8
DTSTAMP:20260422T184942Z
SUMMARY:Israel @70 #2: Vibrations of the Six-Day War
DESCRIPTION:Jewish Federation of the Berkshires\nBerkshire Jewish Community
  Calendar\nhttps://jewishberkshires.org/jewish-federation-of-the-berkshire
 s-calendar/israel-70-2-vibrations-of-the-six-day-war-1527787465\n\nReactio
 ns to the outcomes of the 1967 war still shape the contours of Israeli soc
 iety and politics. A divide emerged between those who embraced our liberat
 ion of the holy places and those who were concerned about the Palestinian 
 Arabs who lived in the land that we had occupied. Knesset Israel’s Israe
 l @70 classes –a curriculum by Dr. Rachel Korazim facilitated by Rabbi D
 avid Weiner - invite students to explore the Israeli experience through po
 etry and song.
DTSTART;TZID=America/New_York:20180725T190000
DTEND;TZID=America/New_York:20180725T210000
END:VEVENT
END:VCALENDAR
