BEGIN:VCALENDAR
PRODID:-//eluceo/ical//2.0/EN
VERSION:2.0
CALSCALE:GREGORIAN
BEGIN:VEVENT
UID:4f0a7d0e0668b3fb29e335f33e62c9fb
DTSTAMP:20260419T162433Z
SUMMARY:Israel @70 - The Yom Kippur War and its Legacies
DESCRIPTION:Jewish Federation of the Berkshires\nBerkshire Jewish Community
  Calendar\nhttps://jewishberkshires.org/jewish-federation-of-the-berkshire
 s-calendar/israel-70---the-yom-kippur-war-and-its-legacies-1527787668\n\nF
 or many Israelis\, time froze in October\, 1973.Popular songs from before\
 , during and after the war speak to the hope\, pain and loss felt in Israe
 l in those days. We will also explore samples of music from the late 1970
 ’s that capture a society’s longing for peace. Knesset Israel’s Isra
 el @70 classes – a curriculum by Dr. Rachel Korazim facilitated by Rabbi
  David Weiner - invite students to explore the Israeli experience through 
 poetry and song.
DTSTART;TZID=America/New_York:20180801T190000
DTEND;TZID=America/New_York:20180801T210000
END:VEVENT
END:VCALENDAR
